BEGIN:VCALENDAR
VERSION:2.0
PRODID:-//Squarespace Inc/Squarespace 6//v6//EN
BEGIN:VEVENT
UID:5b4c1d8a0e2e72d65fbd2909@squarespace.com
DTSTAMP:20180716T042358Z
DTSTART:20180902T053000Z
DTEND:20180902T063000Z
SUMMARY:The Comedy Attic
GEO:40.720756;-74.000761
LOCATION:Bloomington\, IN
END:VEVENT
END:VCALENDAR
