BEGIN:VCALENDAR
VERSION:2.0
PRODID:-//Squarespace Inc/Squarespace 6//v6//EN
BEGIN:VEVENT
UID:572d16be5559862dca6095cd@squarespace.com
DTSTAMP:20160506T221339Z
DTSTART:20160715T020000Z
DTEND:20160715T040000Z
SUMMARY:Wiseguys
GEO:40.760779;-111.891047
LOCATION:Salt Lake City\, UT
END:VEVENT
END:VCALENDAR
