BEGIN:VCALENDAR
VERSION:2.0
PRODID:-//Squarespace Inc/Squarespace 6//v6//EN
BEGIN:VEVENT
UID:60a862d4a76f4b34a4026071@squarespace.com
DTSTAMP:20210522T015051Z
DTSTART:20210820T020000Z
DTEND:20210820T030000Z
SUMMARY:Wiseguys
GEO:40.760779;-111.891047
LOCATION:Salt Lake City\, UT
END:VEVENT
END:VCALENDAR
