BEGIN:VCALENDAR
VERSION:2.0
PRODID:-//Squarespace Inc/Squarespace 6//v6//EN
BEGIN:VEVENT
UID:60a8637b37e8a82d344aca18@squarespace.com
DTSTAMP:20210522T015106Z
DTSTART:20210821T020000Z
DTEND:20210821T030000Z
SUMMARY:Wiseguys
GEO:40.760779;-111.891047
LOCATION:Salt Lake City\, UT
END:VEVENT
END:VCALENDAR
