BEGIN:VCALENDAR
VERSION:2.0
PRODID:-//Squarespace Inc/Squarespace 6//v6//EN
BEGIN:VEVENT
UID:60a86392f1f34945c7d6a858@squarespace.com
DTSTAMP:20210522T015134Z
DTSTART:20210821T043000Z
DTEND:20210821T053000Z
SUMMARY:Wiseguys
GEO:40.760779;-111.891047
LOCATION:Salt Lake City\, UT
END:VEVENT
END:VCALENDAR
