BEGIN:VCALENDAR
VERSION:2.0
PRODID:-//Squarespace Inc/Squarespace 6//v6//EN
BEGIN:VEVENT
UID:60a863aee780cb5f5e7ccc19@squarespace.com
DTSTAMP:20210522T015210Z
DTSTART:20210822T043000Z
DTEND:20210822T053000Z
SUMMARY:Wiseguy
GEO:40.760779;-111.891047
LOCATION:Salt Lake City\, UT
END:VEVENT
END:VCALENDAR
