BEGIN:VCALENDAR
VERSION:2.0
PRODID:-//Squarespace Inc/Squarespace 6//v6//EN
BEGIN:VEVENT
UID:60a863aafe96d458d9ca1903@squarespace.com
DTSTAMP:20210522T015159Z
DTSTART:20210822T020000Z
DTEND:20210822T030000Z
SUMMARY:Wiseguys
GEO:40.760779;-111.891047
LOCATION:Salt Lake City\, UT
END:VEVENT
END:VCALENDAR
