BEGIN:VCALENDAR
VERSION:2.0
PRODID:-//Squarespace Inc/Squarespace 6//v6//EN
BEGIN:VEVENT
UID:572d17ab356fb059250ede13@squarespace.com
DTSTAMP:20160506T221641Z
DTSTART:20160717T043000Z
DTEND:20160717T063000Z
SUMMARY:Wiseguys
GEO:40.760779;-111.891047
LOCATION:Salt Lake City\, UT
END:VEVENT
END:VCALENDAR
