BEGIN:VCALENDAR
VERSION:2.0
PRODID:-//Squarespace Inc/Squarespace 6//v6//EN
BEGIN:VEVENT
UID:572d17624c2f85ddda86f171@squarespace.com
DTSTAMP:20160506T221525Z
DTSTART:20160716T043000Z
DTEND:20160716T063000Z
SUMMARY:Wiseguys
GEO:40.720756;-74.000761
LOCATION:Salt Lake City\, UT
END:VEVENT
END:VCALENDAR
