BEGIN:VCALENDAR
VERSION:2.0
PRODID:-//Squarespace Inc/Squarespace 6//v6//EN
BEGIN:VEVENT
UID:572d172022482e952aaa0526@squarespace.com
DTSTAMP:20160506T221448Z
DTSTART:20160716T020000Z
DTEND:20160716T040000Z
SUMMARY:Wiseguys
GEO:40.760779;-111.891047
LOCATION:Salt Lake City\, UT
END:VEVENT
END:VCALENDAR
