BEGIN:VCALENDAR
VERSION:2.0
PRODID:-//Squarespace Inc/Squarespace 6//v6//EN
BEGIN:VEVENT
UID:5b4aab3a352f534ffb5c168c@squarespace.com
DTSTAMP:20180716T034736Z
DTSTART:20180804T020000Z
DTEND:20180804T030000Z
SUMMARY:Wise Guys
GEO:40.760779;-111.891047
LOCATION:SALT LAKE CITY
END:VEVENT
END:VCALENDAR
