BEGIN:VCALENDAR
VERSION:2.0
PRODID:-//Squarespace Inc/Squarespace 6//v6//EN
BEGIN:VEVENT
UID:5b4aac07352f534ffb5c2b66@squarespace.com
DTSTAMP:20180716T034823Z
DTSTART:20180805T020000Z
DTEND:20180805T030000Z
SUMMARY:Wise Guys
GEO:40.720756;-74.000761
LOCATION:SALT LAKE CITY
END:VEVENT
END:VCALENDAR
