BEGIN:VCALENDAR
VERSION:2.0
PRODID:-//Squarespace Inc/Squarespace 6//v6//EN
BEGIN:VEVENT
UID:5b4aabb303ce64330302a4ab@squarespace.com
DTSTAMP:20180716T034800Z
DTSTART:20180804T043000Z
DTEND:20180804T053000Z
SUMMARY:Wise Guys
GEO:40.720756;-74.000761
LOCATION:SALT LAKE CITY
END:VEVENT
END:VCALENDAR
