BEGIN:VCALENDAR
VERSION:2.0
PRODID:-//Squarespace Inc/Squarespace 6//v6//EN
BEGIN:VEVENT
UID:5bfc4886cd8366a6d91920e4@squarespace.com
DTSTAMP:20181126T192702Z
DTSTART:20190324T023000Z
DTEND:20190324T033000Z
SUMMARY:Wheeler Opera House
GEO:39.191098;-106.817539
LOCATION:ASPEN\, CO
END:VEVENT
END:VCALENDAR
