BEGIN:VCALENDAR
VERSION:2.0
PRODID:-//Squarespace Inc/Squarespace 6//v6//EN
BEGIN:VEVENT
UID:584e3634d2b8572e194f28d1@squarespace.com
DTSTAMP:20161213T203631Z
DTSTART:20170514T030000Z
DTEND:20170514T050000Z
SUMMARY:Warner Theatre
GEO:38.907192;-77.036871
LOCATION:Washington D.C.
END:VEVENT
END:VCALENDAR
