BEGIN:VCALENDAR
VERSION:2.0
PRODID:-//Squarespace Inc/Squarespace 6//v6//EN
BEGIN:VEVENT
UID:584e31d1cd0f684a0dcdb80f@squarespace.com
DTSTAMP:20161213T203241Z
DTSTART:20170327T030000Z
DTEND:20170327T050000Z
SUMMARY:Vogue Theatre
GEO:49.282729;-123.120738
LOCATION:Vancouver\, BC
END:VEVENT
END:VCALENDAR
