BEGIN:VCALENDAR
VERSION:2.0
PRODID:-//Squarespace Inc/Squarespace 6//v6//EN
BEGIN:VEVENT
UID:5cab985ceef1a1c09132e561@squarespace.com
DTSTAMP:20190408T185309Z
DTSTART:20190907T023000Z
DTEND:20190907T033000Z
SUMMARY:Vogue Theatre
END:VEVENT
END:VCALENDAR
