BEGIN:VCALENDAR
VERSION:2.0
PRODID:-//Squarespace Inc/Squarespace 6//v6//EN
BEGIN:VEVENT
UID:61b646bd23fa3061c95071a3@squarespace.com
DTSTAMP:20220208T051300Z
DTSTART:20220529T020000Z
DTEND:20220529T030000Z
SUMMARY:Vogue Theatre
END:VEVENT
END:VCALENDAR
