BEGIN:VCALENDAR
VERSION:2.0
PRODID:-//Squarespace Inc/Squarespace 6//v6//EN
BEGIN:VEVENT
UID:5a2dfe17e2c483bdd90376b8@squarespace.com
DTSTAMP:20171212T193034Z
DTSTART:20180427T030000Z
DTEND:20180427T050000Z
SUMMARY:Vicar Street
GEO:53.349805;-6.26031
LOCATION:DUBLIN\, IRELAND
END:VEVENT
END:VCALENDAR
