BEGIN:VCALENDAR
VERSION:2.0
PRODID:-//Squarespace Inc/Squarespace 6//v6//EN
BEGIN:VEVENT
UID:5c4b535d7924e8386a1edf52@squarespace.com
DTSTAMP:20190125T182107Z
DTSTART:20190412T033000Z
DTEND:20190412T043000Z
SUMMARY:Vicar Street
END:VEVENT
END:VCALENDAR
