BEGIN:VCALENDAR
VERSION:2.0
PRODID:-//Squarespace Inc/Squarespace 6//v6//EN
BEGIN:VEVENT
UID:5cbfc068fa0d603163576723@squarespace.com
DTSTAMP:20190424T014923Z
DTSTART:20190607T023000Z
DTEND:20190607T033000Z
SUMMARY:Vermont Comedy Club (SOLD OUT)
END:VEVENT
END:VCALENDAR
