BEGIN:VCALENDAR
VERSION:2.0
PRODID:-//Squarespace Inc/Squarespace 6//v6//EN
BEGIN:VEVENT
UID:5cbfc0f78165f50477f53ce6@squarespace.com
DTSTAMP:20190424T015120Z
DTSTART:20190609T023000Z
DTEND:20190609T033000Z
SUMMARY:Vermont Comedy Club (SOLD OUT)
END:VEVENT
END:VCALENDAR
