BEGIN:VCALENDAR
VERSION:2.0
PRODID:-//Squarespace Inc/Squarespace 6//v6//EN
BEGIN:VEVENT
UID:5cbfc0ad652dea8078ca0779@squarespace.com
DTSTAMP:20190424T015144Z
DTSTART:20190608T023000Z
DTEND:20190608T033000Z
SUMMARY:Vermont Comedy Club (SOLD OUT)
END:VEVENT
END:VCALENDAR
