BEGIN:VCALENDAR
VERSION:2.0
PRODID:-//Squarespace Inc/Squarespace 6//v6//EN
BEGIN:VEVENT
UID:5deeda6d7338e639f3a92995@squarespace.com
DTSTAMP:20191209T233708Z
DTSTART:20200202T030000Z
DTEND:20200202T040000Z
SUMMARY:Turner Hall Ballroom
END:VEVENT
END:VCALENDAR
