BEGIN:VCALENDAR
VERSION:2.0
PRODID:-//Squarespace Inc/Squarespace 6//v6//EN
BEGIN:VEVENT
UID:61a50ac1dc01b8449462c143@squarespace.com
DTSTAMP:20211129T171703Z
DTSTART:20220429T030000Z
DTEND:20220429T040000Z
SUMMARY:Turner Hall Ballroom
END:VEVENT
END:VCALENDAR
