BEGIN:VCALENDAR
VERSION:2.0
PRODID:-//Squarespace Inc/Squarespace 6//v6//EN
BEGIN:VEVENT
UID:57924dc59f74561cfb361489@squarespace.com
DTSTAMP:20160901T212430Z
DTSTART:20170312T040000Z
DTEND:20170312T060000Z
SUMMARY:Troy Savings Bank Music Hall
GEO:42.728412;-73.691785
LOCATION:Troy\, NY
END:VEVENT
END:VCALENDAR
