BEGIN:VCALENDAR
VERSION:2.0
PRODID:-//Squarespace Inc/Squarespace 6//v6//EN
BEGIN:VEVENT
UID:59f4edcd53450a1e3baf66d4@squarespace.com
DTSTAMP:20171028T205405Z
DTSTART:20171112T030000Z
DTEND:20171112T050000Z
SUMMARY:Third Place Books
GEO:47.606209;-122.332071
LOCATION:Seattle\, WA
END:VEVENT
END:VCALENDAR
