BEGIN:VCALENDAR
VERSION:2.0
PRODID:-//Squarespace Inc/Squarespace 6//v6//EN
BEGIN:VEVENT
UID:5c3e647dc2241b06b6b30115@squarespace.com
DTSTAMP:20190123T193212Z
DTSTART:20190211T030000Z
DTEND:20190211T040000Z
SUMMARY:The Dynasty Typewriter
END:VEVENT
END:VCALENDAR
