BEGIN:VCALENDAR
VERSION:2.0
PRODID:-//Squarespace Inc/Squarespace 6//v6//EN
BEGIN:VEVENT
UID:57924c33f7e0ab45a4484d84@squarespace.com
DTSTAMP:20160722T170734Z
DTSTART:20160925T030000Z
DTEND:20160925T050000Z
SUMMARY:The Wilbur
GEO:42.360082;-71.05888
LOCATION:Boston\, MA
END:VEVENT
END:VCALENDAR
