BEGIN:VCALENDAR
VERSION:2.0
PRODID:-//Squarespace Inc/Squarespace 6//v6//EN
BEGIN:VEVENT
UID:61a508f9dc01b84494622a92@squarespace.com
DTSTAMP:20220216T232222Z
DTSTART:20220417T020000Z
DTEND:20220417T030000Z
SUMMARY:The Wilbur
END:VEVENT
END:VCALENDAR
