BEGIN:VCALENDAR
VERSION:2.0
PRODID:-//Squarespace Inc/Squarespace 6//v6//EN
BEGIN:VEVENT
UID:620d872e302ab311122bbeda@squarespace.com
DTSTAMP:20220216T232340Z
DTSTART:20220417T044500Z
DTEND:20220417T054500Z
SUMMARY:The Wilbur
END:VEVENT
END:VCALENDAR
