BEGIN:VCALENDAR
VERSION:2.0
PRODID:-//Squarespace Inc/Squarespace 6//v6//EN
BEGIN:VEVENT
UID:57a4e694725e250aaed64021@squarespace.com
DTSTAMP:20160805T192454Z
DTSTART:20160925T044500Z
DTEND:20160925T064500Z
SUMMARY:The Wilbur
GEO:42.360082;-71.05888
LOCATION:Boston\, MA
END:VEVENT
END:VCALENDAR
