BEGIN:VCALENDAR
VERSION:2.0
PRODID:-//Squarespace Inc/Squarespace 6//v6//EN
BEGIN:VEVENT
UID:5cab98e61905f4856c84bf4e@squarespace.com
DTSTAMP:20190408T185721Z
DTSTART:20190921T023000Z
DTEND:20190921T033000Z
SUMMARY:The Vic Theatre
END:VEVENT
END:VCALENDAR
