BEGIN:VCALENDAR
VERSION:2.0
PRODID:-//Squarespace Inc/Squarespace 6//v6//EN
BEGIN:VEVENT
UID:61a50b3dcecad912604d4d76@squarespace.com
DTSTAMP:20211129T171906Z
DTSTART:20220430T023000Z
DTEND:20220430T033000Z
SUMMARY:The Vic Theatre
END:VEVENT
END:VCALENDAR
