BEGIN:VCALENDAR
VERSION:2.0
PRODID:-//Squarespace Inc/Squarespace 6//v6//EN
BEGIN:VEVENT
UID:5792501d893fc0d2b2ed8239@squarespace.com
DTSTAMP:20161031T205317Z
DTSTART:20161204T033000Z
DTEND:20161204T053000Z
SUMMARY:The Vic Theatre
GEO:41.878114;-87.629798
LOCATION:Chicago\, IL
END:VEVENT
END:VCALENDAR
