BEGIN:VCALENDAR
VERSION:2.0
PRODID:-//Squarespace Inc/Squarespace 6//v6//EN
BEGIN:VEVENT
UID:57925071d482e9dadcfeb0f3@squarespace.com
DTSTAMP:20161031T205504Z
DTSTART:20161204T060000Z
DTEND:20161204T075900Z
SUMMARY:The Vic Theatre
GEO:41.878114;-87.629798
LOCATION:Chicago\, IL
END:VEVENT
END:VCALENDAR
