BEGIN:VCALENDAR
VERSION:2.0
PRODID:-//Squarespace Inc/Squarespace 6//v6//EN
BEGIN:VEVENT
UID:5cab9bb57817f77fa849c971@squarespace.com
DTSTAMP:20190410T164556Z
DTSTART:20191020T023000Z
DTEND:20191020T033000Z
SUMMARY:The Tabernacle
END:VEVENT
END:VCALENDAR
