BEGIN:VCALENDAR
VERSION:2.0
PRODID:-//Squarespace Inc/Squarespace 6//v6//EN
BEGIN:VEVENT
UID:5798f17e725e25f85fd4e568@squarespace.com
DTSTAMP:20160901T211834Z
DTSTART:20170303T040000Z
DTEND:20170303T060000Z
SUMMARY:The Ridgefield Playhouse
GEO:41.284063;-73.497541
LOCATION:Ridgefield\, CT
END:VEVENT
END:VCALENDAR
