BEGIN:VCALENDAR
VERSION:2.0
PRODID:-//Squarespace Inc/Squarespace 6//v6//EN
BEGIN:VEVENT
UID:613b7de907ec255138204a4d@squarespace.com
DTSTAMP:20211013T170935Z
DTSTART:20211112T040000Z
DTEND:20211112T050000Z
SUMMARY:The Ridgefield Playhouse
END:VEVENT
END:VCALENDAR
