BEGIN:VCALENDAR
VERSION:2.0
PRODID:-//Squarespace Inc/Squarespace 6//v6//EN
BEGIN:VEVENT
UID:5deedc574ad66331390755df@squarespace.com
DTSTAMP:20191209T234459Z
DTSTART:20200224T040000Z
DTEND:20200224T050000Z
SUMMARY:The Paramount
END:VEVENT
END:VCALENDAR
