BEGIN:VCALENDAR
VERSION:2.0
PRODID:-//Squarespace Inc/Squarespace 6//v6//EN
BEGIN:VEVENT
UID:584e34e54402438586a0c4c5@squarespace.com
DTSTAMP:20161213T203520Z
DTSTART:20170429T030000Z
DTEND:20170429T050000Z
SUMMARY:The Orpheum
GEO:43.073052;-89.40123
LOCATION:Madison\, WI
END:VEVENT
END:VCALENDAR
