BEGIN:VCALENDAR
VERSION:2.0
PRODID:-//Squarespace Inc/Squarespace 6//v6//EN
BEGIN:VEVENT
UID:611d4260dc68e16a5456f1b0@squarespace.com
DTSTAMP:20210818T172607Z
DTSTART:20210923T030000Z
DTEND:20210923T040000Z
SUMMARY:The Neptune
END:VEVENT
END:VCALENDAR
