BEGIN:VCALENDAR
VERSION:2.0
PRODID:-//Squarespace Inc/Squarespace 6//v6//EN
BEGIN:VEVENT
UID:57a4e740e6f2e1220f6b0e71@squarespace.com
DTSTAMP:20160901T212411Z
DTSTART:20170304T040000Z
DTEND:20170304T060000Z
SUMMARY:The Music Hall
GEO:43.071755;-70.762553
LOCATION:Portsmouth\, NH
END:VEVENT
END:VCALENDAR
