BEGIN:VCALENDAR
VERSION:2.0
PRODID:-//Squarespace Inc/Squarespace 6//v6//EN
BEGIN:VEVENT
UID:5cab9bf5c83025d6b43863e0@squarespace.com
DTSTAMP:20190415T190336Z
DTSTART:20191027T023000Z
DTEND:20191027T033000Z
SUMMARY:The Masonic
END:VEVENT
END:VCALENDAR
