BEGIN:VCALENDAR
VERSION:2.0
PRODID:-//Squarespace Inc/Squarespace 6//v6//EN
BEGIN:VEVENT
UID:5c48c0e07ba7fc52100725e4@squarespace.com
DTSTAMP:20190123T193202Z
DTSTART:20190405T023000Z
DTEND:20190405T033000Z
SUMMARY:The Lowry
GEO:53.487523;-2.290126
LOCATION:SALFORD\, ENGLAND
END:VEVENT
END:VCALENDAR
