BEGIN:VCALENDAR
VERSION:2.0
PRODID:-//Squarespace Inc/Squarespace 6//v6//EN
BEGIN:VEVENT
UID:5cab9ada9b747a26a9969a45@squarespace.com
DTSTAMP:20190410T164317Z
DTSTART:20191012T030000Z
DTEND:20191012T040000Z
SUMMARY:The Kennedy Center
END:VEVENT
END:VCALENDAR
