BEGIN:VCALENDAR
VERSION:2.0
PRODID:-//Squarespace Inc/Squarespace 6//v6//EN
BEGIN:VEVENT
UID:575728607c65e4a79383b68d@squarespace.com
DTSTAMP:20160607T200648Z
DTSTART:20160704T020000Z
DTEND:20160704T040000Z
SUMMARY:The Ice House
GEO:34.147785;-118.144516
LOCATION:Pasadena\, CA
END:VEVENT
END:VCALENDAR
