BEGIN:VCALENDAR
VERSION:2.0
PRODID:-//Squarespace Inc/Squarespace 6//v6//EN
BEGIN:VEVENT
UID:5a7cdde8ec212dc959558160@squarespace.com
DTSTAMP:20180208T233502Z
DTSTART:20180312T040000Z
DTEND:20180312T053000Z
SUMMARY:The Ice House
GEO:34.147785;-118.144516
LOCATION:PASADENA\, CA
END:VEVENT
END:VCALENDAR
