BEGIN:VCALENDAR
VERSION:2.0
PRODID:-//Squarespace Inc/Squarespace 6//v6//EN
BEGIN:VEVENT
UID:5a7cddbcec212dc95955754b@squarespace.com
DTSTAMP:20180208T233451Z
DTSTART:20180312T020000Z
DTEND:20180312T033000Z
SUMMARY:The Ice House
GEO:34.147785;-118.144516
LOCATION:Pasadena\, CA
END:VEVENT
END:VCALENDAR
