BEGIN:VCALENDAR
VERSION:2.0
PRODID:-//Squarespace Inc/Squarespace 6//v6//EN
BEGIN:VEVENT
UID:5a7cdd7d9140b7843868f702@squarespace.com
DTSTAMP:20180208T233437Z
DTSTART:20180305T050000Z
DTEND:20180305T063000Z
SUMMARY:The Ice House
GEO:34.147785;-118.144516
LOCATION:Pasadena\, CA
END:VEVENT
END:VCALENDAR
